Workbook
Name _1: #REF!
Name _1000A01: #REF!
Name _2: #REF!
Name _Builtin0: #REF!
Name _Fill: #REF!
Name _Key1: #REF!
Name _Key2: #REF!
Name _Sort: #REF!
Name a_min: #REF!
Name A01_: #REF!
Name A01AC: #REF!
Name A01CAT: #REF!
Name A01CODE: #REF!
Name A01DATA: #REF!
Name A01MI: #REF!
Name A01TO: #REF!
Name A120_: #REF!
Name a277Print_Titles: #REF!
Name A35_: #REF!
Name A50_: #REF!
Name A70_: #REF!
Name A95_: #REF!
Name AA: #REF!
Name AC120_: #REF!
Name AC35_: #REF!
Name AC50_: #REF!
Name AC70_: #REF!
Name AC95_: #REF!
Name Act_tec: #REF!
Name adb: #REF!
Name ADEQ: #REF!
Name adg: #REF!
Name AEZ: #REF!
Name ag142X42: #REF!
Name ag15F80: #REF!
Name ag267N59: #REF!
Name aK_cap: #REF!
Name aK_con: #REF!
Name aK_dep: #REF!
Name aK_dis: #REF!
Name aK_imm: #REF!
Name aK_rof: #REF!
Name aK_ron: #REF!
Name aK_run: #REF!
Name aK_sed: #REF!
Name All_Item: #REF!
Name ALPIN: #REF!
Name ALPJYOU: #REF!
Name ALPTOI: #REF!
Name aN_cap: #REF!
Name aN_con: #REF!
Name aN_dep: #REF!
Name aN_fix: #REF!
Name aN_imm: #REF!
Name aN_rof: #REF!
Name aN_ron: #REF!
Name aN_run: #REF!
Name aN_sed: #REF!
Name aP_cap: #REF!
Name aP_con: #REF!

Sheet Phương án chi tiết
A1: PHƯƠNG ÁN KHÁI TOÁN BỒI THƯỜNG, HỖ TRỢ VÀ TÁI ĐỊNH CƯ CÔNG TRÌNH: ĐƯỜNG QUỐC LỘ 6- KHU DU LỊCH NƯỚC NÓNG XÃ QUÀI CANG - XÃ TOẢ TÌNH, TRÊN ĐỊA BÀN XÃ TUẦN GIÁO
A3: (Kèm theo Văn bản số /TTPTQĐ-CNKV2 ngày tháng năm 2026 của Trung tâm Phát triển quỹ đất tỉnh Điện Biên)
A4: STT | B4: Hạng mục tham chiếu | C4: Hạng mục bồi thường, hỗ trợ | D4: Thửa số | E4: Tờ bản đồ số | F4: vị trí Đất | G4: Đơn vị tính | H4: Tổng diện tích thửa Đất (m2) | I4: Khối lượng, diện tích thu hồi (m2) | J4: Đơn giá (đồng) | K4: Hệ số | L4: Thành tiền (đồng) | M4: Nguồn gốc Đất | N4: Căn cứ pháp lý | O4: Tờ số | P4: Thửa số | Q4: Diện tích đo đạc (m²) | R4: Diện tích thu hồi (m²) | AA4: Bồi thường về đất (đồng) | AB4: Bồi thường tài sản, vật kiến trúc (đồng) | AC4: Bồi thường cây trồng, vật nuôi (đồng) | AD4: Hỗ trợ đào tạo, chuyển đổi nghề và tìm kiếm việc làm | AE4: Thành tiền (đồng)
S5: BHK | T5: ONT | U5: CLN | V5: RSX | W5: NTS | X5: CLN | Y5: ONT | Z5: DGD
L7: =SUM(L8:L60)/3 -> 55088174 | Q7: =SUM(Q8:Q60) -> 3569.3 | R7: =SUM(R8:R60) -> 202.6 | S7: =SUM(S8:S60)/2 -> 173.7 | T7: =SUM(T8:T60)/2 -> 0 | U7: =SUM(U8:U60)/2 -> 0 | V7: =SUM(V8:V60)/2 -> 0 | W7: =SUM(W8:W60)/2 -> 0 | X7: =SUM(X8:X60)/2 -> 0 | Y7: =SUM(Y8:Y60)/2 -> 0 | Z7: =SUM(Z8:Z60)/2 -> 28.9 | AA7: =SUM(AA8:AA60) -> 8337600 | AB7: =SUM(AB8:AB60) -> 21150783 | AC7: =SUM(AC8:AC60) -> 17072091 | AD7: =SUM(AD8:AD60) -> 8527700 | AE7: =SUM(AE8:AE60) -> 55088174
A8: 1 | C8: Cà Văn Nọi (vợ Quàng Thị Xuân) | L8: =SUM(L9:L22)/2 -> 11025838 | O8: =E13 -> 2 | P8: =D13 -> 34 | Q8: =H12 -> 731.2 | R8: =I12 -> 67.7 | S8: =SUM(S10:S14) -> 67.7 | T8: =SUM(T10:T14) -> 0 | U8: =SUM(U10:U14) -> 0 | V8: =SUM(V10:V14) -> 0 | W8: =SUM(W10:W14) -> 0 | X8: =SUM(X10:X14) -> 0 | Y8: =SUM(Y10:Y14) -> 0 | AA8: =L12 -> 3249600 | AB8: =L15 -> 4385496 | AC8: =L18 -> 481042.39 | AD8: =L21 -> 2909700 | AE8: =SUM(AA8:AD8) -> 11025838
A9: - | C9: Số định danh cá nhân: 0110700001009
A10: - | C10: HKTT: Bản Sáng, xã Tuần Giáo, tỉnh Điện Biên
A11: - | C11: Số điện thoại:
A12: a | C12: Bồi thường về đất: vị trí 1 | G12: m² | H12: =SUM(H14:H14) -> 731.2 | I12: =SUM(I14:I14) -> 67.7 | L12: =SUM(L14:L14) -> 3249600 | M12: Đất do bố mẹ tự khai hoang từ năm 1970, để sử dụng vào mục đích đất ở nông thôn và trồng cây hàng năm, đến năm 1990 cho tặng con là ông Cà Văn Nọi, sử dụng vào mục đích đất ở nông thôn và trồng cây hàng năm, đất sử dụng ổn định, liên tục, không tranh chấp. Đất chưa được cấp giấy chứng nhận quyền sử dụng đất | N12: Điều 96, Luật Đất đai 2024; Điều 5 Nghị định số 88/2024/NĐ-CP ngày 15/7/2024; Văn bản số 4355/UBND-KT ngày 28/5/2026 của UBND tỉnh Điện Biên
A13: - | C13: Đất ở tại nông thôn (ONT+BHK) | D13: 34 | E13: 2 | F13: 1
A14: - | C14: Đất bằng trồng cây hàng năm khác (BHK) | G14: m² | H14: 731.2 | I14: 67.7 | J14: 48000 | L14: =I14*J14 -> 3249600 | S14: =I14 -> 67.7
A15: b | C15: Bồi thường về tài sản, VKT | L15: =L16+L17 -> 4385496 | N15: - N16 Quyết định 06/2025/QĐ-UBND ngày 26/02/2025 của UBND tỉnh Điện Biên - (Bán mái gia đình dựng từ năm 2010).
B16: 91 | C16: Bán mái, kết cấu cột tre D150; thanh giằng tre, mái lợp fibrôximăng, không tường, nền bê tông láng xi măng; KT 4,0*3,2 | G16: m² | I16: =4*3.2 -> 12.8 | J16: 260400 | K16: 0.8 | L16: =I16*J16*K16 -> 2666496
B17: 178 | C17: Hàng rào cây sống: KT 15,0m | G17: md | I17: 15 | J17: 114600 | L17: =I17*J17 -> 1719000
A18: c | C18: Bồi thường về cây trồng, vật nuôi: | L18: =L19+L20 -> 481042.39 | N18: Quyết định số 58/2024/QĐ-UBND ngày 31/12/2024 của UBND tỉnh Điện Biên.
C19: Cây thanh long trồng năm 2022 (3 cây) | G19: kg | I19: =(123.5*100/4400)*(5-(5-3))*3 -> 25.261364 | J19: 15700 | K19: 0.7 | L19: =I19*J19*K19 -> 277622.39
C20: Cây nhãn trồng tháng 04 năm 2024 | G20: Cây | I20: 1 | J20: 290600 | K20: 0.7 | L20: =I20*J20*K20 -> 203420
A21: d | C21: Hỗ trợ đào tạo, chuyển đổi nghề và tìm kiếm việc làm | L21: =L22 -> 2909700 | N21: Khoản 5 điều 2 Nghị định 226/2025/NĐ-C p ngày 15/8/2025 của Chính phủ; Điều 14 Quyết định số 40/2026/QĐ-UBND ngày 10/6/2026 của UBND tỉnh Điện Biên; Nghị Quyết số 28/2025/NQ-HĐND ngày 25/12/2025 của HĐND tỉnh Điện Biên.
C22: =C14 -> Đất bằng trồng cây hàng năm khác (BHK) | G22: m² | I22: =I14-I16 -> 54.9 | J22: 53000 | K22: 1 | L22: =I22*J22*K22 -> 2909700
A23: 2 | C23: Trường Tiểu học Tuần Giáo | L23: =SUM(L24:L34)/2 -> 0 | O23: =E27 -> 2 | P23: =D27 -> 36 | Q23: =H26 -> 2201.6 | R23: =I26 -> 28.9 | S23: =SUM(S24:S27) -> 0 | T23: =SUM(T24:T27) -> 0 | U23: =SUM(U24:U27) -> 0 | V23: =SUM(V24:V27) -> 0 | W23: =SUM(W24:W27) -> 0 | X23: =SUM(X24:X27) -> 0 | Y23: =SUM(Y24:Y27) -> 0 | Z23: =SUM(Z24:Z29) -> 28.9 | AA23: =L26 -> 0 | AB23: =L28 -> 0 | AC23: =L31 -> 0 | AD23: =L34 -> 0 | AE23: =SUM(AA23:AD23) -> 0
A24: - | C24: Địa chỉ: Bản Sáng, xã Tuần Giáo, tỉnh Điện Biên
A25: - | C25: Số điện thoại: 0355258855
A26: a | C26: Bồi thường về đất: vị trí 1 | G26: m² | H26: =SUM(H27:H27) -> 2201.6 | I26: =SUM(I27:I27) -> 28.9 | N26: Điều 101, 217 Luật Đất đai 2024
A27: - | C27: Đất giáo dục (DGD) | D27: 36 | E27: 2 | G27: m² | H27: 2201.6 | I27: 28.9 | L27: 0 | M27: Đã được cấp GCNQSD số phát hành: BA 591274 cấp ngày 25/11/2010, thuộc thửa đất số 02,Tờ bản đồ số 11, diện tích cấp GCNQSD đất 2107,6m2, mục đích sử dụng đất Đấtt cơ sở giáo dục - đào tạo, do UBND tỉnh Điện Biên cấp, sử dụng ổn định, không tranh chấp. | Z27: =I27 -> 28.9
A28: b | C28: Bồi thường về tài sản, VKT | N28: Điều 92 Luật đất đai 2024
A29: - | C29: Tường rào kết hợp xây gạch tường 110mm, bổ trụ, lu sơn, khung thép hộp; hoa sắt, mũ chụp chụp nhựa đầu hàng rào (cao 1,7m | L29: 0
C30: Trụ cổng xây gạch block: KT 0,50x0,50x3,0 (1 trụ)
A31: c | C31: Bồi thường về cây trồng, vật nuôi: Không | L31: 0
C32: Cây hoa ban đường kính thân từ 20 cm đến < 30 cm (01 cây)
C33: Cây hoa ban đường kính thân ≥ 30 cm (03 cây)
A34: d | C34: Hỗ trợ đào tạo, chuyển đổi nghề và tìm kiếm việc làm: Không
A35: 3 | C35: Lò Văn Sung (vợ Lò Thị Hiền) | L35: =SUM(L36:L60)/2 -> 44062336 | O35: =E40 -> 2 | P35: =D40 -> 39 | Q35: =H39 -> 636.5 | R35: =I39 -> 106 | S35: =SUM(S37:S41) -> 106 | T35: =SUM(T37:T41) -> 0 | U35: =SUM(U37:U41) -> 0 | V35: =SUM(V37:V41) -> 0 | W35: =SUM(W37:W41) -> 0 | X35: =SUM(X37:X41) -> 0 | Y35: =SUM(Y37:Y41) -> 0 | AA35: =L39 -> 5088000 | AB35: =L42 -> 16765287 | AC35: =L50 -> 16591049 | AD35: =L59 -> 5618000 | AE35: =SUM(AA35:AD35) -> 44062336
A36: - | C36: Số định danh cá nhân: 011085007289
A37: - | C37: HKTT: Bản Sáng, xã Tuần Giáo, tỉnh Điện Biên
A38: - | C38: Số điện thoại:
A39: a | C39: Bồi thường về đất: vị trí 1 | G39: m² | H39: =SUM(H41:H41) -> 636.5 | I39: =SUM(I41:I41) -> 106 | L39: =SUM(L41:L41) -> 5088000 | M39: Đất do bố mẹ vợ là ông Lò Văn Xiên tự khai hoang từ năm 1980, để trồng cây hàng năm khác, đến năm 2009 cho tặng con rể là là ông Lò Văn Sung và con gái là Lò Thị Hiền, sử dụng vào mục đích đất ở nông thôn và trồng cây hàng năm, đất sử dụng ổn định, liên tục, không tranh chấp. Đất chưa được cấp giấy chứng nhận quyền sử dụng đất | N39: Điều 96, Luật Đất đai 2024; Điều 5 Nghị định số 88/2024/NĐ-CP ngày 15/7/2024; Văn bản số 4355/UBND-KT ngày 28/5/2026 của UBND tỉnh Điện Biên
C40: Đất ở tại nông thôn (ONT+BHK) | D40: 39 | E40: 2 | F40: 1 | G40: m²
A41: - | C41: Đất bằng trồng cây hàng năm khác (BHK) | H41: 636.5 | I41: 106 | J41: 48000 | L41: =I41*J41 -> 5088000 | S41: =I41 -> 106
A42: b | C42: Bồi thường về tài sản, VKT | L42: =SUM(L43:L49) -> 16765287 | N42: Quyết định 06/2025/QĐ-UBND ngày 26/02/2025 của UBND tỉnh Điện Biên
...

Sheet Phương án tổng hợp
A1: ='Phương án chi tiết'!A1:M2 -> PHƯƠNG ÁN KHÁI TOÁN BỒI THƯỜNG, HỖ TRỢ VÀ TÁI ĐỊNH CƯ CÔNG TRÌNH: ĐƯỜNG QUỐC LỘ 6- KHU DU LỊCH NƯỚC NÓNG XÃ QUÀI CANG - XÃ TOẢ TÌNH, TRÊN ĐỊA BÀN XÃ TUẦN GIÁO
A3: ='Phương án chi tiết'!A3:M3 -> (Kèm theo Văn bản số /TTPTQĐ-CNKV2 ngày tháng năm 2026 của Trung tâm Phát triển quỹ đất tỉnh Điện Biên)
A4: STT | B4: Họ và tên | C4: Tờ bản đồ | D4: Thửa đất số | E4: Diện tích đo đạc (m²) | F4: Diện tích thu hồi (m²) | G4: Loại đất bồi thường | J4: Bồi thường về đất (đồng) | K4: Bồi thường tài sản, vật kiến trúc (đồng) | L4: Bồi thường cây trồng, vật nuôi (đồng) | M4: Bồi thường chi phí di chuyển tài sản khi Nhà nước thu hồi đất | N4: Hỗ trợ đào tạo, chuyển đổi nghề và tìm kiếm việc làm | O4: Thành tiền (đồng)
G5: LUC | H5: BHK | I5: DGD
A6: ='Phương án chi tiết'!A8 -> 1 | B6: ='Phương án chi tiết'!C8 -> Cà Văn Nọi (vợ Quàng Thị Xuân) | C6: ='Phương án chi tiết'!O8 -> 2 | D6: ='Phương án chi tiết'!P8 -> 34 | E6: ='Phương án chi tiết'!Q8 -> 731.2 | F6: ='Phương án chi tiết'!R8 -> 67.7 | H6: ='Phương án chi tiết'!S8 -> 67.7 | J6: ='Phương án chi tiết'!AA8 -> 3249600 | K6: ='Phương án chi tiết'!AB8 -> 4385496 | L6: ='Phương án chi tiết'!AC8 -> 481042.39 | N6: ='Phương án chi tiết'!AD8 -> 2909700 | O6: =SUM(J6:N6) -> 11025838
A7: ='Phương án chi tiết'!A23 -> 2 | B7: ='Phương án chi tiết'!C23 -> Trường Tiểu học Tuần Giáo | C7: ='Phương án chi tiết'!O23 -> 2 | D7: ='Phương án chi tiết'!P23 -> 36 | E7: ='Phương án chi tiết'!Q23 -> 2201.6 | F7: ='Phương án chi tiết'!R23 -> 28.9 | I7: ='Phương án chi tiết'!Z7 -> 28.9 | O7: =SUM(J7:N7) -> 0
A8: ='Phương án chi tiết'!A35 -> 3 | B8: ='Phương án chi tiết'!C35 -> Lò Văn Sung (vợ Lò Thị Hiền) | C8: ='Phương án chi tiết'!O35 -> 2 | D8: ='Phương án chi tiết'!P35 -> 39 | E8: ='Phương án chi tiết'!Q35 -> 636.5 | F8: ='Phương án chi tiết'!R35 -> 106 | H8: ='Phương án chi tiết'!S35 -> 106 | J8: ='Phương án chi tiết'!AA35 -> 5088000 | K8: ='Phương án chi tiết'!AB35 -> 16765287 | L8: ='Phương án chi tiết'!AC35 -> 16591049 | N8: ='Phương án chi tiết'!AD35 -> 5618000 | O8: =SUM(J8:N8) -> 44062336
B9: Tổng cộng | E9: =SUM(E6:E8) -> 3569.3 | F9: =SUM(F6:F8) -> 202.6 | G9: =SUM(G6:G8) -> 0 | H9: =SUM(H6:H8) -> 173.7 | I9: =SUM(I6:I8) -> 28.9 | J9: =SUM(J6:J8) -> 8337600 | K9: =SUM(K6:K8) -> 21150783 | L9: =SUM(L6:L8) -> 17072091 | ... O9: =SUM(O6:O8) -> 55088174
B10: ='Phương án chi tiết'!B61:C61 -> I. Tổng số chủ sử dụng đất bị ảnh hưởng: | E10: ='Phương án chi tiết'!E61 -> 3 | F10: ='Phương án chi tiết'!F61:H61 -> Chủ sử dụng đất
B11: ='Phương án chi tiết'!B62:C62 -> Trong đó:
B12: ='Phương án chi tiết'!B63:C63 -> - Tổ chức | E12: ='Phương án chi tiết'!E63 -> 1
B13: ='Phương án chi tiết'!B64:C64 -> - Hộ gia đình, cá nhân: | E13: ='Phương án chi tiết'!E64 -> 2
B14: ='Phương án chi tiết'!B65:C65 -> II. Tổng diện tích thu hồi: | E14: ='Phương án chi tiết'!E65 -> 202.6 | F14: m2
B15: ='Phương án chi tiết'!B66:C66 -> Trong đó:
B16: ='Phương án chi tiết'!B67:C67 -> - Đất bằng trồng cây hàng năm khác (BHK) | E16: ='Phương án chi tiết'!E67 -> 173.7 | F16: m2
B17: ='Phương án chi tiết'!B68:C68 -> - Đất giáo dục (DGD) | E17: ='Phương án chi tiết'!E68 -> 28.9 | F17: m2
B18: ='Phương án chi tiết'!B69:C69 -> III.Tổng kinh phí bồi thường và Kinh phí đảm bảo cho việc tổ chức thực hiện BTHT&TĐC: | H18: ='Phương án chi tiết'!F70 -> đồng
B19: ='Phương án chi tiết'!B71:C71 -> Trong đó:
B20: ='Phương án chi tiết'!B72:C72 -> - Tiền bồi thường đất: | E20: ='Phương án chi tiết'!E72 -> 8337600 | F20: ='Phương án chi tiết'!F72 -> đồng
B21: ='Phương án chi tiết'!B73:C73 -> - Tiền bồi thường tài sản, vật kiến trúc: | E21: ='Phương án chi tiết'!E73 -> 21150783 | F21: ='Phương án chi tiết'!F73 -> đồng
B22: ='Phương án chi tiết'!B74:C74 -> - Tiền bồi thường cây cối hoa màu, vật nuôi: | E22: ='Phương án chi tiết'!E74 -> 17072091 | F22: ='Phương án chi tiết'!F74 -> đồng
B23: ='Phương án chi tiết'!B75:C75 -> - Các khoản hỗ trợ: | E23: ='Phương án chi tiết'!E75 -> 8527700 | F23: ='Phương án chi tiết'!F75 -> đồng
